BEGIN:VCALENDAR
VERSION:2.0
PRODID:-//Hotel Gutshaus Parin - ECPv6.15.20//NONSGML v1.0//EN
CALSCALE:GREGORIAN
METHOD:PUBLISH
X-WR-CALNAME:Hotel Gutshaus Parin
X-ORIGINAL-URL:https://www.gutshaus-parin.de
X-WR-CALDESC:Veranstaltungen für Hotel Gutshaus Parin
REFRESH-INTERVAL;VALUE=DURATION:PT1H
X-Robots-Tag:noindex
X-PUBLISHED-TTL:PT1H
BEGIN:VTIMEZONE
TZID:Europe/Berlin
BEGIN:DAYLIGHT
TZOFFSETFROM:+0100
TZOFFSETTO:+0200
TZNAME:CEST
DTSTART:20220327T010000
END:DAYLIGHT
BEGIN:STANDARD
TZOFFSETFROM:+0200
TZOFFSETTO:+0100
TZNAME:CET
DTSTART:20221030T010000
END:STANDARD
BEGIN:DAYLIGHT
TZOFFSETFROM:+0100
TZOFFSETTO:+0200
TZNAME:CEST
DTSTART:20230326T010000
END:DAYLIGHT
BEGIN:STANDARD
TZOFFSETFROM:+0200
TZOFFSETTO:+0100
TZNAME:CET
DTSTART:20231029T010000
END:STANDARD
BEGIN:DAYLIGHT
TZOFFSETFROM:+0100
TZOFFSETTO:+0200
TZNAME:CEST
DTSTART:20240331T010000
END:DAYLIGHT
BEGIN:STANDARD
TZOFFSETFROM:+0200
TZOFFSETTO:+0100
TZNAME:CET
DTSTART:20241027T010000
END:STANDARD
END:VTIMEZONE
BEGIN:VEVENT
DTSTART;TZID=Europe/Berlin:20231016T120000
DTEND;TZID=Europe/Berlin:20231020T120000
DTSTAMP:20260426T061252
CREATED:20201125T125000Z
LAST-MODIFIED:20220928T102148Z
UID:24304-1697457600-1697803200@www.gutshaus-parin.de
SUMMARY:Heilsame Berührung und Bewegung im Body-Mind Centering®
DESCRIPTION:Resilienz stärken und das Nervensystem regulieren \n\n\n\nAchtsame Berührung wird auch als die „Mutter der Sinne“ bezeichnet und wird zunehmend in wissenschaftlichen Studien als eine der wichtigsten Voraussetzungen für ein balanciertes Nervensystem erkannt. \n\n\n\nWir können als Baby ohne die anderen Sinne überleben\, aber nur sehr bedingt ohne Berührung. Durch sie nehmen Frühgeborene schneller an Gewicht zu und es ist wahrscheinlicher\, dass sie überleben. Berührung reduziert Stress und schafft Verbindung\, und ohne sie besteht die Gefahr von körperlichen und psychischen Erkrankungen\, bei Menschen wie auch bei Tieren. Durch wohlwollende Berührung fühlen wir uns geerdet und in uns selbst „zu Hause“. Sie lässt uns aber auch unsere Körpergrenzen besser spüren. Das unterstützt uns darin\, uns psychisch gegen ungünstige äußere Einflüsse abzugrenzen.  \n\n\n\nWie können wir uns selbst und andere so berühren\, dass es wirklich „berührend“ ist?Wie kann Berührung wohltuend sein und positive Veränderung bewirken\, ohne invasiv oder zu intim zu sein?\n\n\n\nDie Qualität von respektvoller\, warmer und heilender Berührung lässt sich erlernen. Mit ihr können wir sowohl uns selbst als auch anderen im beruflichen oder privaten Umfeld in die seelische und körperliche Balance verhelfen. Unterstützen werden uns darin Elemente aus Body Mind Centering (BMC)\, ARUN Bewusster Berührung\, Shiatsu\, Somatic Experiencing (SE)\, Faszien Arbeit und Thai Massage. \n\n\n\nDieser Bildungsurlaub ist bereichernd für Menschen in helfenden\, therapeutischen und pädagogischen Berufen\, aber auch für alle anderen Interessierten geeignet. \n\n\n\nAlle Berührungen werden mit Bekleidung stattfinden. Der Unterricht wird den – zu der Zeit gültigen – Corona-Vorsichtsmaßnahmen angepasst sein\, sodass sich jede*r Teilnehmer*in wohl und sicher fühlen kann. \n\n\n\n Seminarinhalte \n\n\n\nEinfache\, wirkungsvolle Werkzeuge der Berührung lernen: Regulation von Nervensystem\, Körper & GeistDen Mut zum Spüren statt Tun entwickeln: Der Berührte fühlt sich durch wache\, lauschende Hände verstandenBerührung aus verschiedenen Methoden kennenlernen (Body-Mind Centering\, Arun Bewusste Berührung\, Thai Massage\, Shiatsu\, Somatic Experiencing)Den Atem als Grundlage für Bewegung und Berührung nutzenDurch Wahrnehmung der eigenen Körpergrenzen im Kontakt zentriert bleiben  Grundlagen der „Erfahrbaren Anatomie“Verständnis spezifischer Qualitäten von Berührung\, z. B. bei Hochsensibilität\, Trauma oder mangelnder ErdungAchtsame und wohltuende Partnerarbeit: mit neuer Energie zurück in den Alltag\n\n\n\nSeminarziele \n\n\n\nAchtsame und wohltuende Berührung bei sich selbst und anderen anwenden könnenVerständnis der Bedeutung von Berührung für die Regulation des NervensystemsVertiefte Körperwahrnehmung und Selbstregulation\, um vollkommen für den Empfangenden präsent sein zu könnenGestärktes Vertrauen in die eigene Intuition im Kontakt mit anderenVerbesserte Selbstfürsorge in Beruf und AlltagVerbesserte und anstrengungslose Fürsorge für andere in Beruf und AlltagVerbesserte körperliche\, mentale und emotionale Balance in Beruf und AlltagFörderung der sozialen Kompetenz insbesondere bei BerührungInnere Ruhe finden und Energie tanken\n\n\n\nAnerkannt als Bildungsurlaub bzw. anerkannter Bildungsträger für Bildungsurlaub/Bildungszeit in: Baden-Württemberg\, Bremen\, Hessen\, Nordrhein-Westfalen\, Saarland \n\n\n\nAnerkennung möglich in: Berlin\, Brandenburg\, Hamburg\, Niedersachsen\, Rheinland-Pfalz\, Sachsen-Anhalt\, Schleswig-Holstein \n\n\n\nAnmeldung: www.liw-ev.de/detailev/?event=43872#location \n\n\n\n\n\nOrt: Gutshaus Parin\, Wirtschaftshof 1\, 23948 Parin\,Reservierung Unterkunft:Telefon: 03881 75689-0 eMail: info@gutshaus-parin.de\,www.gutshaus-parin.de
URL:https://www.gutshaus-parin.de/veranstaltungen/heilsame-beruehrung-und-bewegung-im-body-mind-centering/
LOCATION:Hotel Gutshaus Parin\, Wirtschaftshof 1\, Parin\, 23948\, Germany
CATEGORIES:Seminarkalender
ATTACH;FMTTYPE=image/jpeg:https://www.gutshaus-parin.de/wp-content/uploads/2020/11/Vorschaubild_Kalender.jpg
END:VEVENT
END:VCALENDAR