BEGIN:VCALENDAR
VERSION:2.0
PRODID:-//Hotel Gutshaus Parin - ECPv6.15.20//NONSGML v1.0//EN
CALSCALE:GREGORIAN
METHOD:PUBLISH
X-ORIGINAL-URL:https://www.gutshaus-parin.de
X-WR-CALDESC:Veranstaltungen für Hotel Gutshaus Parin
REFRESH-INTERVAL;VALUE=DURATION:PT1H
X-Robots-Tag:noindex
X-PUBLISHED-TTL:PT1H
BEGIN:VTIMEZONE
TZID:Europe/Berlin
BEGIN:DAYLIGHT
TZOFFSETFROM:+0100
TZOFFSETTO:+0200
TZNAME:CEST
DTSTART:20220327T010000
END:DAYLIGHT
BEGIN:STANDARD
TZOFFSETFROM:+0200
TZOFFSETTO:+0100
TZNAME:CET
DTSTART:20221030T010000
END:STANDARD
BEGIN:DAYLIGHT
TZOFFSETFROM:+0100
TZOFFSETTO:+0200
TZNAME:CEST
DTSTART:20230326T010000
END:DAYLIGHT
BEGIN:STANDARD
TZOFFSETFROM:+0200
TZOFFSETTO:+0100
TZNAME:CET
DTSTART:20231029T010000
END:STANDARD
BEGIN:DAYLIGHT
TZOFFSETFROM:+0100
TZOFFSETTO:+0200
TZNAME:CEST
DTSTART:20240331T010000
END:DAYLIGHT
BEGIN:STANDARD
TZOFFSETFROM:+0200
TZOFFSETTO:+0100
TZNAME:CET
DTSTART:20241027T010000
END:STANDARD
END:VTIMEZONE
BEGIN:VEVENT
DTSTART;TZID=Europe/Berlin:20231030T120000
DTEND;TZID=Europe/Berlin:20231103T120000
DTSTAMP:20260426T050305
CREATED:20201125T125000Z
LAST-MODIFIED:20220928T101702Z
UID:24306-1698667200-1699012800@www.gutshaus-parin.de
SUMMARY:Gesundheitliche Balance im Beruf mit der Feldenkrais®-Methode - Fokus Idiolektik
DESCRIPTION:Leichtigkeit und Balance für Körper und Seele \n\n\n\nFeldenkrais® als senso-motorische Lernmethode und Idiolektik als innovative und respektvolle Gesprächsmethode sind ideale Verfahren\, um im beruflichen Kontext inspirierende und konstruktive Elemente zur Weiterentwicklung und gesundheitlichen Balance zu finden.Neurologisch bewiesen ist die enge Vernetzung des Körpers mit dem Fühlen und Denken. Die Feldenkrais®-Methode ist als senso-motorisches Lernverfahren ideal einsetzbar\, diese Vernetzung zu verbessern und so die Selbstorganisation\, das körperliche Wohlgefühl und die Resilienz (Widerstandsfähigkeit) zu optimieren.Idiolektik (Dialog mit Fokus auf der Eigensprache) öffnet im respektvollen Gespräch Wege\, neue professionelle Handlungsspielräume und Perspektiven zur Weiterentwicklung. Beide Verfahren sind am Arbeitsplatz einsetzbar und erleichtern effektivere Leistung\, sinnvolle Stressreduktion und das Wahrnehmen der eigenen Ressourcen für den Umgang mit beruflichen Belastungen. \n\n\n\nAnerkannt als Bildungsurlaub bzw. anerkannter Bildungsträger für Bildungsurlaub/Bildungszeit in: Baden-Württemberg\, Hessen\, Niedersachsen\, Nordrhein-Westfalen\, Saarland \n\n\n\nAnerkennung möglich in: Berlin\, Brandenburg\, Bremen\, Hamburg\, Rheinland-Pfalz\, Sachsen-Anhalt\, Schleswig-Holstein \n\n\n\nAnmeldung: www.liw-ev.de/detailev/?event=43848#location \n\n\n\n\n\nOrt: Gutshaus Parin\, Wirtschaftshof 1\, 23948 Parin\,Reservierung Unterkunft:Telefon: 03881 75689-0 eMail: info@gutshaus-parin.de\,www.gutshaus-parin.de
URL:https://www.gutshaus-parin.de/veranstaltungen/gesundheitliche-balance-im-beruf-mit-der-feldenkrais-methode-fokus-idiolektik/
LOCATION:Hotel Gutshaus Parin\, Wirtschaftshof 1\, Parin\, 23948\, Germany
CATEGORIES:Seminarkalender
ATTACH;FMTTYPE=image/jpeg:https://www.gutshaus-parin.de/wp-content/uploads/2020/11/Vorschaubild_Kalender.jpg
END:VEVENT
END:VCALENDAR