BEGIN:VCALENDAR
VERSION:2.0
PRODID:-//Hotel Gutshaus Parin - ECPv6.15.20//NONSGML v1.0//EN
CALSCALE:GREGORIAN
METHOD:PUBLISH
X-WR-CALNAME:Hotel Gutshaus Parin
X-ORIGINAL-URL:https://www.gutshaus-parin.de
X-WR-CALDESC:Veranstaltungen für Hotel Gutshaus Parin
REFRESH-INTERVAL;VALUE=DURATION:PT1H
X-Robots-Tag:noindex
X-PUBLISHED-TTL:PT1H
BEGIN:VTIMEZONE
TZID:Europe/Berlin
BEGIN:DAYLIGHT
TZOFFSETFROM:+0100
TZOFFSETTO:+0200
TZNAME:CEST
DTSTART:20220327T010000
END:DAYLIGHT
BEGIN:STANDARD
TZOFFSETFROM:+0200
TZOFFSETTO:+0100
TZNAME:CET
DTSTART:20221030T010000
END:STANDARD
BEGIN:DAYLIGHT
TZOFFSETFROM:+0100
TZOFFSETTO:+0200
TZNAME:CEST
DTSTART:20230326T010000
END:DAYLIGHT
BEGIN:STANDARD
TZOFFSETFROM:+0200
TZOFFSETTO:+0100
TZNAME:CET
DTSTART:20231029T010000
END:STANDARD
BEGIN:DAYLIGHT
TZOFFSETFROM:+0100
TZOFFSETTO:+0200
TZNAME:CEST
DTSTART:20240331T010000
END:DAYLIGHT
BEGIN:STANDARD
TZOFFSETFROM:+0200
TZOFFSETTO:+0100
TZNAME:CET
DTSTART:20241027T010000
END:STANDARD
END:VTIMEZONE
BEGIN:VEVENT
DTSTART;TZID=Europe/Berlin:20231204T120000
DTEND;TZID=Europe/Berlin:20231208T120000
DTSTAMP:20260426T030704
CREATED:20230728T120558Z
LAST-MODIFIED:20230728T121309Z
UID:25370-1701691200-1702036800@www.gutshaus-parin.de
SUMMARY:Kommunikation in Balance
DESCRIPTION:Mit Methoden von F. Schulz v. Thun und Aspekten aus dem Qigong \n\n\n\n\n\nDas Berufsleben und auch der private Alltag fordern uns vielfältig heraus\, in Begegnungen und auch in Konflikten die eigene Balance jeweils neu zu finden: Zwischen Nähe und Distanz\, Verbindlichkeit und Abgrenzung\, zwischen Kompromissfähigkeit und Durchsetzungsvermögen oder zwischen Prinzipientreue und Flexibilität. \n\n\n\nMich auf die Situation und mein Gegenüber einzulassen und dabei einen guten Kontakt zu den eigenen Bedürfnissen\, der Selbstwahrnehmung zu halten ist als doppelte Ausrichtung\, nach innen wie nach außen\, ebenfalls eine Voraussetzung für gelingende Gespräche und einen zufriedenstellenden Umgang mit Konflikten. \n\n\n\nEinen Leitfaden durch Konflikte bis hin zu deren bewussten Abschluss bieten die Phasen der Mediation. Dabei lassen Modelle nach F. Schulz v. Thun Dynamiken in Beziehungen und Gesprächen anschaulich werden\, so dass bestehende Muster erkannt und künftig bewusster gestaltet werden können. \n\n\n\nDas Seminar kann auch als eine persönliche Reflexion zum Jahresende genutzt werden: Was möchte ich in meinem beruflichen und privaten Alltag künftig mehr in Balance bringen? Die behandelten Modelle eignen sich für den Blick auf die eigenen Werte und Lebensgestaltung. \n\n\n\nInsgesamt 1 Stunde Qigong täglich ergänzen die kommunikativen Konzepte und deren praktische Anwendung. Haltung\, Balance\, Beweglichkeit\, abrufbare innere Ruhe sind Ressourcen\, die man mit Qigong übt und die unsere Fähigkeiten in der Kommunikation stärken können. Die lockernden\, dehnenden Bewegungen aus der chinesischen Tradition regulieren die Atmung und üben die Verbindung von Stabilität\, Beweglichkeit und einer mühelos leichten Aufrichtung. \n\n\n\nZusätzlich bauen Übungen zu Körpersprache und Wahrnehmungsübungen in der Kommunikation auf die Prinzipien und die Erfahrungen des Qigong-Übens auf. \n\n\n\nSeminarinhalte \n\n\n\n• Konstruktive und zielführende Gespräche• Haltung\, Bewegung und Präsenz in der Kommunikation• Körpersprache in der Kommunikation• Selbstsicherheit und Empathie in der Kommunikation• Entwicklung einer systemisch und situativ adäquaten Kommunikation• Kommunikation in Konflikt- und Stressmomenten• Dynamiken in Gesprächen aus Sicht des Embodiment \n\n\n\nSeminarziele \n\n\n\n• Förderung der Kompetenz für eine ganzheitlich stim­mige Kommunikation• Stärkung einer zielführenden und selbstbewussten Kommunikation• Förderung von emotionaler Kompetenz\, Teamfähig­keit\, Konfliktfähigkeit und Führungskompetenz• Stärkung von Präsenz und Gelassenheit• Stärkung des Zugangs zu eigenen Ressourcen und Entspannungsfähigkeit in Konfliktsituationen \n\n\n\nAnerkannt als Bildungsurlaub bzw. anerkannter Bildungsträger für Bildungsurlaub/Bildungszeit in: Baden-Württemberg\, Hessen\, Nordrhein-Westfalen\, Saarland \n\n\n\nAnerkennung möglich in: Berlin\, Brandenburg\, Bremen\, Hamburg\, Mecklenburg-Vorpommern\, Niedersachsen\, Rheinland-Pfalz\, Sachsen-Anhalt\, Schleswig-Holstein\, Thüringen \n\n\n\nAnmeldung: Detail (liw-ev.de) \n\n\n\n\n\nOrt: Gutshaus Parin\, Wirtschaftshof 1\, 23948 Parin\,Reservierung Unterkunft:Telefon: 03881 75689-0 eMail: info@gutshaus-parin.de\,www.gutshaus-parin.de
URL:https://www.gutshaus-parin.de/veranstaltungen/kommunikation-in-balance-2/
LOCATION:Hotel Gutshaus Parin\, Wirtschaftshof 1\, Parin\, 23948\, Germany
CATEGORIES:Seminarkalender
ATTACH;FMTTYPE=image/jpeg:https://www.gutshaus-parin.de/wp-content/uploads/2020/11/Vorschaubild_Kalender.jpg
END:VEVENT
END:VCALENDAR