BEGIN:VCALENDAR
VERSION:2.0
PRODID:-//Hotel Gutshaus Parin - ECPv6.15.20//NONSGML v1.0//EN
CALSCALE:GREGORIAN
METHOD:PUBLISH
X-WR-CALNAME:Hotel Gutshaus Parin
X-ORIGINAL-URL:https://www.gutshaus-parin.de
X-WR-CALDESC:Veranstaltungen für Hotel Gutshaus Parin
REFRESH-INTERVAL;VALUE=DURATION:PT1H
X-Robots-Tag:noindex
X-PUBLISHED-TTL:PT1H
BEGIN:VTIMEZONE
TZID:Europe/Berlin
BEGIN:DAYLIGHT
TZOFFSETFROM:+0100
TZOFFSETTO:+0200
TZNAME:CEST
DTSTART:20220327T010000
END:DAYLIGHT
BEGIN:STANDARD
TZOFFSETFROM:+0200
TZOFFSETTO:+0100
TZNAME:CET
DTSTART:20221030T010000
END:STANDARD
BEGIN:DAYLIGHT
TZOFFSETFROM:+0100
TZOFFSETTO:+0200
TZNAME:CEST
DTSTART:20230326T010000
END:DAYLIGHT
BEGIN:STANDARD
TZOFFSETFROM:+0200
TZOFFSETTO:+0100
TZNAME:CET
DTSTART:20231029T010000
END:STANDARD
BEGIN:DAYLIGHT
TZOFFSETFROM:+0100
TZOFFSETTO:+0200
TZNAME:CEST
DTSTART:20240331T010000
END:DAYLIGHT
BEGIN:STANDARD
TZOFFSETFROM:+0200
TZOFFSETTO:+0100
TZNAME:CET
DTSTART:20241027T010000
END:STANDARD
END:VTIMEZONE
BEGIN:VEVENT
DTSTART;TZID=Europe/Berlin:20231208T170000
DTEND;TZID=Europe/Berlin:20231210T140000
DTSTAMP:20260426T030827
CREATED:20220928T090523Z
LAST-MODIFIED:20220928T090531Z
UID:24390-1702054800-1702216800@www.gutshaus-parin.de
SUMMARY:Retreat: Halte die Welt an – Zeit für Dich.
DESCRIPTION:Du möchtest in der hektischen Vorweihnachtszeit einmal durchatmen? \n\n\n\nDann könnte das Retreat mit sanften Yoga- & Entspannungsübungen und Meditation genau das Richtige für Dich sein. Wir nehmen uns Zeit in einem kleinen Workshop\, das alte Jahr zu reflektieren. Du hast die Möglichkeit eine Vision fürs kommende Jahr zu entwickeln und Dich neu auszurichten. \n\n\n\nDann ist dieses Wochenende genau das Richtige – Nimm Dir Zeit für Dich! \n\n\n\nFREITAG\n\n\n\nDein kleiner Strandspaziergang am Meer?17.00 Uhr – Anreise & Ankommen im Raum17.30 Uhr Yoga 19.00 Uhr – Abendessen20.30 Uhr ggf. Klangdom \n\n\n\nSAMSTAG\n\n\n\n8.30 Uhr – Yoga9.30 Uhr – Frühstück11.00 Uhr – Seminar 13.00-16.00 Uhr – Mittagsessen in Stille & Pause16.00 Uhr – Seminar17.30 Uhr – Yoga19.00  Uhr – Abendessen20.30 Uhr Ausklang \n\n\n\nSONNTAG\n\n\n\n8.30 Uhr – Yoga9.30 Uhr – Frühstück11.00 Uhr – Seminarabschluss13.00 Uhr – Mittagessen
URL:https://www.gutshaus-parin.de/veranstaltungen/retreat-halte-die-welt-an-zeit-fuer-dich/
LOCATION:Hotel Gutshaus Parin\, Wirtschaftshof 1\, Parin\, Mecklenburg Vorpommern\, 23948\, Germany
CATEGORIES:Seminarkalender
ATTACH;FMTTYPE=image/jpeg:https://www.gutshaus-parin.de/wp-content/uploads/2022/03/Yoga_Achtsamkeit_Wanderretreat.jpg
END:VEVENT
END:VCALENDAR