BEGIN:VCALENDAR
VERSION:2.0
PRODID:-//Hotel Gutshaus Parin - ECPv6.15.20//NONSGML v1.0//EN
CALSCALE:GREGORIAN
METHOD:PUBLISH
X-ORIGINAL-URL:https://www.gutshaus-parin.de
X-WR-CALDESC:Veranstaltungen für Hotel Gutshaus Parin
REFRESH-INTERVAL;VALUE=DURATION:PT1H
X-Robots-Tag:noindex
X-PUBLISHED-TTL:PT1H
BEGIN:VTIMEZONE
TZID:Europe/Berlin
BEGIN:DAYLIGHT
TZOFFSETFROM:+0100
TZOFFSETTO:+0200
TZNAME:CEST
DTSTART:20230326T010000
END:DAYLIGHT
BEGIN:STANDARD
TZOFFSETFROM:+0200
TZOFFSETTO:+0100
TZNAME:CET
DTSTART:20231029T010000
END:STANDARD
BEGIN:DAYLIGHT
TZOFFSETFROM:+0100
TZOFFSETTO:+0200
TZNAME:CEST
DTSTART:20240331T010000
END:DAYLIGHT
BEGIN:STANDARD
TZOFFSETFROM:+0200
TZOFFSETTO:+0100
TZNAME:CET
DTSTART:20241027T010000
END:STANDARD
BEGIN:DAYLIGHT
TZOFFSETFROM:+0100
TZOFFSETTO:+0200
TZNAME:CEST
DTSTART:20250330T010000
END:DAYLIGHT
BEGIN:STANDARD
TZOFFSETFROM:+0200
TZOFFSETTO:+0100
TZNAME:CET
DTSTART:20251026T010000
END:STANDARD
END:VTIMEZONE
BEGIN:VEVENT
DTSTART;TZID=Europe/Berlin:20240128T183000
DTEND;TZID=Europe/Berlin:20240202T140000
DTSTAMP:20260426T005550
CREATED:20230619T093806Z
LAST-MODIFIED:20230619T122302Z
UID:25337-1706466600-1706882400@www.gutshaus-parin.de
SUMMARY:Learning-Love – Being & Becoming
DESCRIPTION:Learning Love – Being & Becoming• Prozess-orientiertes Retreat \n\n\n\n\n\n\n\nDas Spannungsfeld von Sein und Werden ist ein alchemistisches Prinzip der Transformation. Der Tanz von Yin & Yang und tiefer gesehen: sich dem Fluss des Lebens anvertrauen lernen.In diesem Retreat gehen wir mit den zwei Seiten von Heilung um: die ganze Akzeptanz\, Annehmen von dem\, was ist\, wie wir sind\, wie unser Leben ist\, die Welt ist. Das ist die Grundlage für Veränderung\, Wandlung.Das scheint vielleicht paradox. Doch wenn wir im Kampf mit dem Gegenwärtigen sind\, verschließen wir uns und stemmen uns gegen das\, was das Leben uns in jedem Moment bringt. Offen sein für Wandlung\, unseren Ängsten\, unseren Unsicherheiten begegnen\, den Raum öffnen jenseits jeglicher Vorstellungen\, die ja durch unsere Konditionierung und Erfahrungen begrenzt sind.Mit unserer Arbeit gestalten wir eine liebevolle und respektvolle Umgebung und unterstützen jeden auf seine Art und Weise\, um in seiner eigenen Zeit zu lernen und tiefer zu gehen.Für tiefgreifende Veränderungen beziehen wir verschiedene Ebenen mit ein: den Körper\, die Gefühle\, das Verstehen und die innere Zentrierung.Wesentliche Teile unserer Arbeit kommen aus dem Learning-Love von Krish und Amana Trobe (www.learningloveinstitute.com) und der Trauma-Arbeit von Peter Levine\, Somatic Experiencing®. Auch die Erfahrungen unserer eigenen Beziehungsreise prägen unsere Arbeit.Leitung: Regina Hübscher & Tameer Mathias Bürki \n\n\n\nOrt: Gutshaus Parin (Nähe Ostsee)Zeiten: Beginn Sonntag\, den 28. Januar 2024 18:30 Uhr mit dem Abendessen (und Abendsession um 20:00 Uhr)Ende Freitag\, 02. Februar 2024 14:00 (Mittagessen)Preis: 615 € (ohne Unterkunft und Verpflegung)Sprache: DeutschAnmeldung: Telefon +49 7131 6499975\, E-Mail kontakt@raum-fuer-liebe.de \n\n\n\nRegina Hübscher & Tameer Mathias Bürkikontakt@raum-fuer-liebe.dewww.raum-fuer-liebe.de \n\n\n\n\n\nOrt: Gutshaus Parin\, Wirtschaftshof 1\, 23948 ParinReservierung Unterkunft:Frau Möhler Telefon: 03881 / 75689600 (Montag – Freitag 8:00 – 13:00 Uhr) eMail: info@gutshaus-parin.de\,
URL:https://www.gutshaus-parin.de/veranstaltungen/learning-love-being-becoming/
LOCATION:Hotel Gutshaus Parin\, Wirtschaftshof 1\, Parin\, Mecklenburg Vorpommern\, 23948\, Germany
CATEGORIES:Seminarkalender
ATTACH;FMTTYPE=image/jpeg:https://www.gutshaus-parin.de/wp-content/uploads/2023/06/Learning-Love.jpg
END:VEVENT
END:VCALENDAR