BEGIN:VCALENDAR
VERSION:2.0
PRODID:-//Hotel Gutshaus Parin - ECPv6.15.20//NONSGML v1.0//EN
CALSCALE:GREGORIAN
METHOD:PUBLISH
X-ORIGINAL-URL:https://www.gutshaus-parin.de
X-WR-CALDESC:Veranstaltungen für Hotel Gutshaus Parin
REFRESH-INTERVAL;VALUE=DURATION:PT1H
X-Robots-Tag:noindex
X-PUBLISHED-TTL:PT1H
BEGIN:VTIMEZONE
TZID:Europe/Berlin
BEGIN:DAYLIGHT
TZOFFSETFROM:+0100
TZOFFSETTO:+0200
TZNAME:CEST
DTSTART:20230326T010000
END:DAYLIGHT
BEGIN:STANDARD
TZOFFSETFROM:+0200
TZOFFSETTO:+0100
TZNAME:CET
DTSTART:20231029T010000
END:STANDARD
BEGIN:DAYLIGHT
TZOFFSETFROM:+0100
TZOFFSETTO:+0200
TZNAME:CEST
DTSTART:20240331T010000
END:DAYLIGHT
BEGIN:STANDARD
TZOFFSETFROM:+0200
TZOFFSETTO:+0100
TZNAME:CET
DTSTART:20241027T010000
END:STANDARD
BEGIN:DAYLIGHT
TZOFFSETFROM:+0100
TZOFFSETTO:+0200
TZNAME:CEST
DTSTART:20250330T010000
END:DAYLIGHT
BEGIN:STANDARD
TZOFFSETFROM:+0200
TZOFFSETTO:+0100
TZNAME:CET
DTSTART:20251026T010000
END:STANDARD
END:VTIMEZONE
BEGIN:VEVENT
DTSTART;TZID=Europe/Berlin:20240322T000000
DTEND;TZID=Europe/Berlin:20240324T235959
DTSTAMP:20260425T233359
CREATED:20240129T092814Z
LAST-MODIFIED:20240129T092817Z
UID:25702-1711065600-1711324799@www.gutshaus-parin.de
SUMMARY:Yoga Retreat an der Ostsee - Yoga\, Wandern\, Natur Erleben
DESCRIPTION:Einfach mal zwei Tage Auszeit für dich im schönen Mecklenburg-Vorpommern in Parin nahe der Ostsee. Ganz gemütlich einfach mal ein paar Tage Abstand vom bewegten Alltag bekommen.Sanfte\, kräftigende Yogaübungen und Meditationsstunden erwarten dich\, ebenso wie eine gemütliche Zeit\, vegetarisches Biovollwert-Essen und Entspannung. Du bist herzlich willkommen\, ob du alleine\, mit Freund*innen oder als Paar teilnehmen möchtest. \n\n\n\nWann? Freitag\, 22. März 2024 Check-In ab 14.30 Uhr bis Sonntag\, 24. März 2024 Check-Out bis 10.30 Uhr. Ort: Gutshaus Parin nahe der Ostsee \n\n\n\nSeminarbeginn Freitag – 17 Uhr\, Seminarende Sonntag nach dem Mittagessen \n\n\n\nIm Bio-Gesundheitshotel Parin findet das Retreat statt. Ein ruhiger Rückzugsort\, mit hoteleigener Sauna\, Naturbadeteich\, kostenfreien Parkplätzen und großer Sonnenterrasse mit Blick über die umliegende weite Landschaft. Das schmackhafte vegetarische vegane Bio-Essen wird im Wintergarten oder rustikalem Gewölbekeller genossen. Nachmittags gibt es eine Auswahl an Torten und Kuchen.Angekommen an diesem Wohlfühlort mit hervorragendem Service üben wir gemeinsam Yoga\, halten inne und tun unserem Körper und unserer Seele Gutes. \n\n\n\nWährend deines Aufenthalts nutze die Möglichkeit\, deine Seele einfach baumeln zu lassen\, beim Saunabesuch\, einer Massage (bitte rechtzeitig im Hotel buchen)\, einem Spaziergang oder einem guten Buch am Kamin. Die Sauna und das SPA in Stellshagen können ebenfalls genutzt werden. Deswegen könnte es sich anbieten\, einen Tag vorher anzureisen oder zu verlängern\, um beispielsweise die Natur in der Umgebung zu genießen oder einen Ostseespaziergang zu machen. \n\n\n\nTeilnahme: 222 € für Yoga- und Meditationseinheiten zzgl. Hotelkosten\, Klangdom & Anreise \n\n\n\nFrühbucher bis 31.1.2024 – 197€ \n\n\n\nKlangdom 8.-Euro bitte in bar mitbringen. \n\n\n\nHerzlich willkommen\, ich freue mich sehr auf dich! \n\n\n\nKatrin Borzym \n\n\n\nContact@beyourway.de \n\n\n\nTelefon: 0331-23547307
URL:https://www.gutshaus-parin.de/veranstaltungen/yoga-retreat-an-der-ostsee/
LOCATION:Hotel Gutshaus Parin\, Wirtschaftshof 1\, Parin\, 23948\, Germany
CATEGORIES:Seminarkalender
ATTACH;FMTTYPE=image/jpeg:https://www.gutshaus-parin.de/wp-content/uploads/2024/01/Yoga_Wander_Ostsee_Retreat_Maerz_2024.jpg
END:VEVENT
END:VCALENDAR