BEGIN:VCALENDAR
VERSION:2.0
PRODID:-//Hotel Gutshaus Parin - ECPv6.15.20//NONSGML v1.0//EN
CALSCALE:GREGORIAN
METHOD:PUBLISH
X-WR-CALNAME:Hotel Gutshaus Parin
X-ORIGINAL-URL:https://www.gutshaus-parin.de
X-WR-CALDESC:Veranstaltungen für Hotel Gutshaus Parin
REFRESH-INTERVAL;VALUE=DURATION:PT1H
X-Robots-Tag:noindex
X-PUBLISHED-TTL:PT1H
BEGIN:VTIMEZONE
TZID:Europe/Berlin
BEGIN:DAYLIGHT
TZOFFSETFROM:+0100
TZOFFSETTO:+0200
TZNAME:CEST
DTSTART:20230326T010000
END:DAYLIGHT
BEGIN:STANDARD
TZOFFSETFROM:+0200
TZOFFSETTO:+0100
TZNAME:CET
DTSTART:20231029T010000
END:STANDARD
BEGIN:DAYLIGHT
TZOFFSETFROM:+0100
TZOFFSETTO:+0200
TZNAME:CEST
DTSTART:20240331T010000
END:DAYLIGHT
BEGIN:STANDARD
TZOFFSETFROM:+0200
TZOFFSETTO:+0100
TZNAME:CET
DTSTART:20241027T010000
END:STANDARD
BEGIN:DAYLIGHT
TZOFFSETFROM:+0100
TZOFFSETTO:+0200
TZNAME:CEST
DTSTART:20250330T010000
END:DAYLIGHT
BEGIN:STANDARD
TZOFFSETFROM:+0200
TZOFFSETTO:+0100
TZNAME:CET
DTSTART:20251026T010000
END:STANDARD
END:VTIMEZONE
BEGIN:VEVENT
DTSTART;TZID=Europe/Berlin:20240412T000000
DTEND;TZID=Europe/Berlin:20240414T235959
DTSTAMP:20260425T220752
CREATED:20240226T083245Z
LAST-MODIFIED:20240226T083248Z
UID:25773-1712880000-1713139199@www.gutshaus-parin.de
SUMMARY:Kundalini-Yoga-Wochenende„ mit sich sein"
DESCRIPTION:Dein Wochenende um Anspannung regelrecht abzuschütteln und dich mit kraftvollen Yoga-Einheiten zu stärken. Mit ausgedehnten Meditationen klärst und erfrischt Du deinen Geist.Du bekommst eine stärkere Verbindung zu Dir selbst und nimmst Wohlbefinden und ein positives Lebensgefühl mit inden Alltag. \n\n\n\nMit Silke KayserYogalehrerin / Yogatherapeutin
URL:https://www.gutshaus-parin.de/veranstaltungen/kundalini-yoga/
LOCATION:Hotel Gutshaus Parin\, Wirtschaftshof 1\, Parin\, 23948\, Germany
CATEGORIES:Seminarkalender
ATTACH;FMTTYPE=image/png:https://www.gutshaus-parin.de/wp-content/uploads/2024/02/mit-sich-sein-Kopie-1.png
ORGANIZER;CN="Silke Kayser":MAILTO:silke.kayser@yoga-ahrensburg.de
END:VEVENT
END:VCALENDAR