BEGIN:VCALENDAR
VERSION:2.0
PRODID:-//Hotel Gutshaus Parin - ECPv6.15.20//NONSGML v1.0//EN
CALSCALE:GREGORIAN
METHOD:PUBLISH
X-WR-CALNAME:Hotel Gutshaus Parin
X-ORIGINAL-URL:https://www.gutshaus-parin.de
X-WR-CALDESC:Veranstaltungen für Hotel Gutshaus Parin
REFRESH-INTERVAL;VALUE=DURATION:PT1H
X-Robots-Tag:noindex
X-PUBLISHED-TTL:PT1H
BEGIN:VTIMEZONE
TZID:Europe/Berlin
BEGIN:DAYLIGHT
TZOFFSETFROM:+0100
TZOFFSETTO:+0200
TZNAME:CEST
DTSTART:20230326T010000
END:DAYLIGHT
BEGIN:STANDARD
TZOFFSETFROM:+0200
TZOFFSETTO:+0100
TZNAME:CET
DTSTART:20231029T010000
END:STANDARD
BEGIN:DAYLIGHT
TZOFFSETFROM:+0100
TZOFFSETTO:+0200
TZNAME:CEST
DTSTART:20240331T010000
END:DAYLIGHT
BEGIN:STANDARD
TZOFFSETFROM:+0200
TZOFFSETTO:+0100
TZNAME:CET
DTSTART:20241027T010000
END:STANDARD
BEGIN:DAYLIGHT
TZOFFSETFROM:+0100
TZOFFSETTO:+0200
TZNAME:CEST
DTSTART:20250330T010000
END:DAYLIGHT
BEGIN:STANDARD
TZOFFSETFROM:+0200
TZOFFSETTO:+0100
TZNAME:CET
DTSTART:20251026T010000
END:STANDARD
END:VTIMEZONE
BEGIN:VEVENT
DTSTART;TZID=Europe/Berlin:20240728T170000
DTEND;TZID=Europe/Berlin:20240731T103000
DTSTAMP:20260425T182313
CREATED:20240409T111436Z
LAST-MODIFIED:20240416T072217Z
UID:25845-1722186000-1722421800@www.gutshaus-parin.de
SUMMARY:FOLLOW YOUR FIRE - RETREAT:  ChiYoga – HerzensFeuer – TransFormation-Neu
DESCRIPTION:Dieses Empowerment Retreat lädt dich ein\, dich auf eine Reise der Selbsteinfühlung und des persönlichen Wachstums zu begeben. Wir nutzen dafür die transformierende Jahresenergie des Drachens\, die symbolisch für Stärke\, Mut und Entschlossenheit steht. Über ChiYoga\, Kinesiologie\, Breathwork und Meditation wirst du in die Lage versetzt\, deinem inneren Kompass leichter zu folgen. Um die Ziele\, die dir wirklich am Herzen liegen\, mit Klarheit und Begeisterung umzusetzen. \n\n\n\nBist du bereit\, in der Hitze des Sommers dein inneres Feuer zu entfachen? \n\n\n\nUm das Feuer (Yang) weise zu führen\, braucht es auch Ruhe und Erdung (Yin). Dafür ist das Gutshaus Parin im Klützer Winkel eine natürliche Oase für Stille und Rückzug. Für Abkühlung bei zu feuriger Sommerhitze\, lockt die Ostsee in Fahrradtournähe oder der schöne Naturbadeteich am Hotel. \n\n\n\nDieses Retreat richtet sich gleichermaßen an Männer und Frauen\, die ihrer Herzensstimme im Alltag fokussierter folgen wollen. Für mehr Selbstvertrauen\, Eigenständigkeit und Freude. \n\n\n\nAblauf: \n\n\n\nWir starten morgens mitChiYoga: Sanfte Bewegungen\, dynamisches Schütteln und achtsame Atemübungen entspannen deine Faszien. So werden festgehaltene Verspannungen und Emotionen einfach befreit.Im Anschluss steht ein frisches BIO-Frühstücks-Buffet für uns bereit.Tagsüber ist genügend Zeit für individuellen Rückzug und Spaziergänge am Meer. Kleine Reflektions-Übungen versüßen den Weg\, um das innere Feuer zu wecken.Am späten Nachmittag kommen wir als Gruppe in einem sehr schönen lichtdurchfluteten Raum zusammen. Wir entdecken durch Achtsamkeitsübungen unser HerzensFeuer und die Kraft der TransFormation. \n\n\n\nZum krönenden Abschluss des Tages erwartet uns jeweils ein vegetarisches abendliches Festmahl. \n\n\n\n\n\n\n\nBist du dabei? Entscheide dich für dein Feuer! \n\n\n\n \n\n\n\nZusätzliches Angebot – 1:1  Coaching: \n\n\n\n@ Steffi: Energy-Talk zur energetischen Klärung  (85\,-€/45min.) \n\n\n\n@ Nicole: ChiEmbodiment Körper-Behandlung zur Tiefen-Entspannung  (85\,-€/45min.) \n\n\n\nRetreat-Leitung: Stefanie Hegmann-Celie und Nicole Findeisen \n\n\n\nSeminargebühr: \n\n\n\nbei Anmeldung bis zum 28.05.2024: 425\,-€\, danach 495\,-€    (ohne Unterkunft und Verpflegung)
URL:https://www.gutshaus-parin.de/veranstaltungen/follow-your-fire-retreat-chiyoga-herzensfeuer-transformation-duplicate-1/
LOCATION:Hotel Gutshaus Parin\, Wirtschaftshof 1\, Parin\, 23948\, Germany
CATEGORIES:Seminarkalender
ATTACH;FMTTYPE=image/jpeg:https://www.gutshaus-parin.de/wp-content/uploads/2024/04/1.jpg
ORGANIZER;CN="Nicole Findeisen":MAILTO:nicole@chi-your-life.de
END:VEVENT
END:VCALENDAR