BEGIN:VCALENDAR
VERSION:2.0
PRODID:-//Hotel Gutshaus Parin - ECPv6.15.20//NONSGML v1.0//EN
CALSCALE:GREGORIAN
METHOD:PUBLISH
X-ORIGINAL-URL:https://www.gutshaus-parin.de
X-WR-CALDESC:Veranstaltungen für Hotel Gutshaus Parin
REFRESH-INTERVAL;VALUE=DURATION:PT1H
X-Robots-Tag:noindex
X-PUBLISHED-TTL:PT1H
BEGIN:VTIMEZONE
TZID:Europe/Berlin
BEGIN:DAYLIGHT
TZOFFSETFROM:+0100
TZOFFSETTO:+0200
TZNAME:CEST
DTSTART:20240331T010000
END:DAYLIGHT
BEGIN:STANDARD
TZOFFSETFROM:+0200
TZOFFSETTO:+0100
TZNAME:CET
DTSTART:20241027T010000
END:STANDARD
BEGIN:DAYLIGHT
TZOFFSETFROM:+0100
TZOFFSETTO:+0200
TZNAME:CEST
DTSTART:20250330T010000
END:DAYLIGHT
BEGIN:STANDARD
TZOFFSETFROM:+0200
TZOFFSETTO:+0100
TZNAME:CET
DTSTART:20251026T010000
END:STANDARD
BEGIN:DAYLIGHT
TZOFFSETFROM:+0100
TZOFFSETTO:+0200
TZNAME:CEST
DTSTART:20260329T010000
END:DAYLIGHT
BEGIN:STANDARD
TZOFFSETFROM:+0200
TZOFFSETTO:+0100
TZNAME:CET
DTSTART:20261025T010000
END:STANDARD
END:VTIMEZONE
BEGIN:VEVENT
DTSTART;TZID=Europe/Berlin:20250810T170000
DTEND;TZID=Europe/Berlin:20250815T123000
DTSTAMP:20260419T175036
CREATED:20240117T065619Z
LAST-MODIFIED:20240119T073145Z
UID:25664-1754845200-1755261000@www.gutshaus-parin.de
SUMMARY:Herzzeit-Urlaub: Yogazeit – Zeit für mein Naturell – Herzzeit
DESCRIPTION:Kommen Sie in der sommerlichen Frische des Nordens ganz bei sich selbst\, in Ihrem Herzen an! \n\n\n\nSeminarleiterin Ines Jahn\n\n\n\nIn Fahrradtournähe zum Ostseekurort Boltenhagen liegt das Gutshaus Parin\, eine Oase der Ruhe.Hier biete ich achtsames Yoga und Herzzeiten an: Sich selbst nahekommen\, Beziehung zum eigenen Herzen stärken\, Ruhe und Kraft in sich selbst finden! Jeder Tag ist einem Naturelement gewidmet.Wir verbringen unsere gemeinsame Zeit in einem sehr schönen lichtdurchfluteten Gruppenraum mit Blick in die Natur. Wir beginnen am Sonntag um 17 Uhr und enden am Freitag um 12.30 Uhr.Die Nachmittage stehen zur freien Verfügung für eigene Aktivitäten oder Ruhezeiten\, wie Meer\, Sauna oder Schwimmen.  \n\n\n\nIch freue mich auf Sie! \n\n\n\nSeminargebühr: \n\n\n\nbei Anmeldung bis zum 01.01.2025: 520\,-€ / danach 550\,- €  (ohne Unterkunft und Verpflegung) \n\n\n\nZusätzliches Angebot: \n\n\n\nEinzelbegleitung durch Bindungsenergetik- Therapiestunde: 100\,- € (50 min.)
URL:https://www.gutshaus-parin.de/veranstaltungen/herzzeit-urlaub-yogazeit-zeit-fuer-mein-naturell-herzzeit/
LOCATION:Hotel Gutshaus Parin\, Wirtschaftshof 1\, Parin\, 23948\, Germany
CATEGORIES:Seminarkalender
ATTACH;FMTTYPE=image/jpeg:https://www.gutshaus-parin.de/wp-content/uploads/2019/12/ines-jahn.jpg
ORGANIZER;CN="Ines Jahn":MAILTO:herz@heilpraxis-jahn.de
END:VEVENT
END:VCALENDAR