BEGIN:VCALENDAR
VERSION:2.0
PRODID:-//Hotel Gutshaus Parin - ECPv6.15.20//NONSGML v1.0//EN
CALSCALE:GREGORIAN
METHOD:PUBLISH
X-WR-CALNAME:Hotel Gutshaus Parin
X-ORIGINAL-URL:https://www.gutshaus-parin.de
X-WR-CALDESC:Veranstaltungen für Hotel Gutshaus Parin
REFRESH-INTERVAL;VALUE=DURATION:PT1H
X-Robots-Tag:noindex
X-PUBLISHED-TTL:PT1H
BEGIN:VTIMEZONE
TZID:Europe/Berlin
BEGIN:DAYLIGHT
TZOFFSETFROM:+0100
TZOFFSETTO:+0200
TZNAME:CEST
DTSTART:20240331T010000
END:DAYLIGHT
BEGIN:STANDARD
TZOFFSETFROM:+0200
TZOFFSETTO:+0100
TZNAME:CET
DTSTART:20241027T010000
END:STANDARD
BEGIN:DAYLIGHT
TZOFFSETFROM:+0100
TZOFFSETTO:+0200
TZNAME:CEST
DTSTART:20250330T010000
END:DAYLIGHT
BEGIN:STANDARD
TZOFFSETFROM:+0200
TZOFFSETTO:+0100
TZNAME:CET
DTSTART:20251026T010000
END:STANDARD
BEGIN:DAYLIGHT
TZOFFSETFROM:+0100
TZOFFSETTO:+0200
TZNAME:CEST
DTSTART:20260329T010000
END:DAYLIGHT
BEGIN:STANDARD
TZOFFSETFROM:+0200
TZOFFSETTO:+0100
TZNAME:CET
DTSTART:20261025T010000
END:STANDARD
END:VTIMEZONE
BEGIN:VEVENT
DTSTART;TZID=Europe/Berlin:20250905T160000
DTEND;TZID=Europe/Berlin:20250907T120000
DTSTAMP:20260419T163455
CREATED:20250602T114358Z
LAST-MODIFIED:20250610T123454Z
UID:26483-1757088000-1757246400@www.gutshaus-parin.de
SUMMARY:ChiYourLife® Retreat: ChiYoga. NaturPur. LebendigSein.
DESCRIPTION:Dieses ChiYourLife-Retreat lädt dich ein\, deine natürliche Lebendigkeit im Körper fühlbar zu machen. Je mehr wir unseren Körper mit purer Lebensenergie verweben\, desto lebendiger und selbstverständlicher folgen wir unserem Herzen und fühlen uns tatkräftig und wohl. Dein Chi befreit sich spielerisch leicht mit Bewusstseins-Übungen\, die sowohl dein Yin nähren (Ruhe-Erdung-Körper-Empfangen) als auch dein Yangkräftigen (Aktivität-Spirit-Lichtkörper-Impulse geben). Dafür ist das Gutshaus Parin im Klützer Winkel eine optimale Natur-Oase. Stille und Rückzug bekommst du durch die ruhige Atmosphäre\, die natürlichen Boutique-Hotelzimmer und den herrlich ästhetischen Naturbadeteich am Hotel. Für Aktivitäten lockt eine Wanderung zum Bothmer Schloss oder eine Fahrradtour an die Ostsee. \n\n\n\nRetreat-Leitung: Nicole Findeisen \n\n\n\nTermin:  \n\n\n\nFreitag\, 05.09.2025 Check-In ab 14.30 Uhr bis Sonntag\, 07.09.2025 Check-Out bis 10.30 Uhr.Ort: Bio-Hotel Gutshaus Parin im Klützer Winkel (Geheimtipp) nahe der Ostsee.Retreat-Beginn: Freitag 16.00 Uhr\, Retreat-Ende: Sonntag 12:00 Uhr.Freitagabend: 20.00 Uhr „Come together“ am Lagerfeuer \n\n\n\nWir starten morgens mit ChiYoga: Natürlich-organische Bewegungen\, dynamisches Schütteln und achtsame Atemübungen entspannen deine Faszien. Festgehaltene Verspannungen und Emotionen werden befreit. Im Anschluss steht ein frisches BIO-Frühstücks-Buffet für uns bereit.Tagsüber ist genügend Zeit für individuellen Rückzug und Spaziergänge am Meer. Kleine Reflektions- Übungen versüßen den Weg\, um dich mit deinem natürlichen Wesenskern zu verbinden. Am späten Nachmittag kommen wir als Gruppe in einem sehr schönen lichtdurchfluteten Raum zusammen. Wir entdecken unsere innere Lebendigkeit durch Achtsamkeits- und ChiEmbodiment-Übungen. Heilende Gong-Sounds aktivieren unseren puren Lichtkörper.Zum krönenden Abschluss des Tages erwartet uns jeweils ein vegetarisches abendliches Festmahl. Erlaube dir eine effektive Auszeit für dich Selbst und komme freudig geordnet zurück in deinen Alltag. \n\n\n\nRetreat-Gebühr:295\,-€ (Unterkunft und Verpflegung separat buchen)Inklusive Special – Event : 5 Waves Meditation in Bewegung am Samstag\, 20.00 – 21.15 Uhr \n\n\n\nZusätzliches Angebot:ChiEmbodiment Körper-Behandlung zur Tiefen-Entspannung mit Nicole (75\,-€/45min.) \n\n\n\nIch freue mich auf dich! \n\n\n\nNicole Findeisennicole@chi-your-life.de+49 (0)151 2283 4716www.chi-your-life.de
URL:https://www.gutshaus-parin.de/veranstaltungen/chiyourlifechiyoga-naturpur-lebendigsein/
CATEGORIES:Seminarkalender
ATTACH;FMTTYPE=image/jpeg:https://www.gutshaus-parin.de/wp-content/uploads/2025/06/Profilbild_1_Nicole-scaled.jpg
END:VEVENT
END:VCALENDAR