BEGIN:VCALENDAR
VERSION:2.0
PRODID:-//Hotel Gutshaus Parin - ECPv6.15.20//NONSGML v1.0//EN
CALSCALE:GREGORIAN
METHOD:PUBLISH
X-ORIGINAL-URL:https://www.gutshaus-parin.de
X-WR-CALDESC:Veranstaltungen für Hotel Gutshaus Parin
REFRESH-INTERVAL;VALUE=DURATION:PT1H
X-Robots-Tag:noindex
X-PUBLISHED-TTL:PT1H
BEGIN:VTIMEZONE
TZID:Europe/Berlin
BEGIN:DAYLIGHT
TZOFFSETFROM:+0100
TZOFFSETTO:+0200
TZNAME:CEST
DTSTART:20240331T010000
END:DAYLIGHT
BEGIN:STANDARD
TZOFFSETFROM:+0200
TZOFFSETTO:+0100
TZNAME:CET
DTSTART:20241027T010000
END:STANDARD
BEGIN:DAYLIGHT
TZOFFSETFROM:+0100
TZOFFSETTO:+0200
TZNAME:CEST
DTSTART:20250330T010000
END:DAYLIGHT
BEGIN:STANDARD
TZOFFSETFROM:+0200
TZOFFSETTO:+0100
TZNAME:CET
DTSTART:20251026T010000
END:STANDARD
BEGIN:DAYLIGHT
TZOFFSETFROM:+0100
TZOFFSETTO:+0200
TZNAME:CEST
DTSTART:20260329T010000
END:DAYLIGHT
BEGIN:STANDARD
TZOFFSETFROM:+0200
TZOFFSETTO:+0100
TZNAME:CET
DTSTART:20261025T010000
END:STANDARD
END:VTIMEZONE
BEGIN:VEVENT
DTSTART;TZID=Europe/Berlin:20250926T000000
DTEND;TZID=Europe/Berlin:20250928T235959
DTSTAMP:20260419T163848
CREATED:20241108T114954Z
LAST-MODIFIED:20241108T114956Z
UID:26027-1758844800-1759103999@www.gutshaus-parin.de
SUMMARY:BEWUSSTER WANDEL FÜR FRAUEN - „Zünde dein Leben an\, und suche die\, die Deine Flammen nähren.“
DESCRIPTION:Im Trubel unsere geschäftigen Zeit sehnen sich Frauen mehr denn je nach Begegnungen\, in denen sie sich selbst und mit anderen Frauen nah sein und sich gegenseitig halten\, unterstützen und nähern können. Dieses Seminar richtet sich an Frauen\, die sich in der Mitte des Lebens befinden. Auf der Suche nach ihrer ureigenen Identität und dem Wunsch\, ihr Bewusstsein dafür zu schulen. In Entwicklungsräumen\, die einladen zum Öffnen\, Spüren und Fühlen.Was erwartet Sie im Seminar?Gesamtstunden 12 Stunden / Täglich 4 Stunden  \n\n\n\n– tägliches Morgenprogramm z.B. »Fünf Tibeter«– autobiografisches Schreiben nach den weiblichen Jahrsiebt Rhythmen– Selbstreflexionsübungen– Einsatz von kreativen Methodenz.B. Rituale\, Tanz\, Malen\, Gesang\, Klang\, Berührung– abends\, kleine Meditation– 1 Massage MondFrau \n\n\n\nMit Heindrun KuhneHeilpraktikerin
URL:https://www.gutshaus-parin.de/veranstaltungen/das-erntemond-seminar-zeit-fuer-den-wandel/
LOCATION:Hotel Gutshaus Parin\, Wirtschaftshof 1\, Parin\, Mecklenburg Vorpommern\, 23948\, Germany
CATEGORIES:Seminarkalender
ATTACH;FMTTYPE=image/jpeg:https://www.gutshaus-parin.de/wp-content/uploads/2023/10/Postkarte-Erntemond-fuer-Internetauftritt-Parin_page-0001.jpg
ORGANIZER;CN="Heindrun Kuhne":MAILTO:mail@hk-erntemond.de
END:VEVENT
END:VCALENDAR