BEGIN:VCALENDAR
VERSION:2.0
PRODID:-//Hotel Gutshaus Parin - ECPv6.15.20//NONSGML v1.0//EN
CALSCALE:GREGORIAN
METHOD:PUBLISH
X-ORIGINAL-URL:https://www.gutshaus-parin.de
X-WR-CALDESC:Veranstaltungen für Hotel Gutshaus Parin
REFRESH-INTERVAL;VALUE=DURATION:PT1H
X-Robots-Tag:noindex
X-PUBLISHED-TTL:PT1H
BEGIN:VTIMEZONE
TZID:Europe/Berlin
BEGIN:DAYLIGHT
TZOFFSETFROM:+0100
TZOFFSETTO:+0200
TZNAME:CEST
DTSTART:20240331T010000
END:DAYLIGHT
BEGIN:STANDARD
TZOFFSETFROM:+0200
TZOFFSETTO:+0100
TZNAME:CET
DTSTART:20241027T010000
END:STANDARD
BEGIN:DAYLIGHT
TZOFFSETFROM:+0100
TZOFFSETTO:+0200
TZNAME:CEST
DTSTART:20250330T010000
END:DAYLIGHT
BEGIN:STANDARD
TZOFFSETFROM:+0200
TZOFFSETTO:+0100
TZNAME:CET
DTSTART:20251026T010000
END:STANDARD
BEGIN:DAYLIGHT
TZOFFSETFROM:+0100
TZOFFSETTO:+0200
TZNAME:CEST
DTSTART:20260329T010000
END:DAYLIGHT
BEGIN:STANDARD
TZOFFSETFROM:+0200
TZOFFSETTO:+0100
TZNAME:CET
DTSTART:20261025T010000
END:STANDARD
END:VTIMEZONE
BEGIN:VEVENT
DTSTART;TZID=Europe/Berlin:20251123T000000
DTEND;TZID=Europe/Berlin:20251129T235959
DTSTAMP:20260419T153511
CREATED:20240926T100108Z
LAST-MODIFIED:20250603T095110Z
UID:25995-1763856000-1764460799@www.gutshaus-parin.de
SUMMARY:Stressbewältigung mit Yoga\, Entspannung und Selbstfürsorge im Beruf und Alltag - BildungsUrlaub
DESCRIPTION:Inklusiv-Leistungen Bildungsveranstaltung: \n\n\n\n– 5 aktivierende Yoga-Einheiten am Morgen– 5 regenerative Yoga-Einheiten am Abend– 5 Einheiten Stressbewältigung mit Selbstfürsorge – 5 Einheiten Progressive Muskelentspannung  \n\n\n\nInklusiv-Leistungen Unterkunft und Verpflegung: \n\n\n\n– 6 Übernachtungen in großzügigen Einzel- oder Doppelzimmern der Kategorie Himmel im Hauptgebäude oder Sonne im Zirbenhaus– köstliche vegetarische Vollpension (vegetarisches Frühstücksbuffet inkl. Tee\, Kaffee und Säften\, Mittagessen und Abendessen)– Nutzung der Parkanlage mit Naturbadeteich (wer sich traut 🙂 und Saunawagen– kostenlose Gästeparkplätze– kostenloses W-LAN im Kaminzimmer \n\n\n\nWobei Sie das Seminar in Ihrem Alltag und Beruf unterstützen kann: \n\n\n\n– spezifische und stressabhängige Beschwerden im Körper zu reduzieren\, vor allem in den Bereichen:– Rücken\, Nacken\, Schultern\, Hüften\, Knie\, Verdauungsbeschwerden und bei körperlicher und emotionaler Erschöpfung– spezifische Stresssymptome des Körpers schneller zu erkennen und selbständig gezielte Yoga-Übungen anzuwenden– das Entspannungsverfahren Progressive Muskelentspannung in Stresssituationen eigenständig anzuwenden und praktisch weiterzugeben– das persönliche Stresserleben besser zu verstehen– einen bewussteren Umgang und alternative Verhaltensweisen mit Stress und Belastungen zu entwickeln– einen motivierenden und selbstfreundlicheren Umgang mit sich selbst zu erlernen. \n\n\n\n \n\n\n\nAnerkennung liegt vor für:Berlin\, Brandenburg\, Hamburg\, Schleswig-Holstein \n\n\n\nAnerkennung wird auf Wunsch beantragt für folgende Bundesländer:Bremen\, NRW\, Baden-Württemberg\, Hessen\, Niedersachsen\, Rheinland-Pfalz\, Saarland\, Sachsen-Anhalt\, Thüringen
URL:https://www.gutshaus-parin.de/veranstaltungen/stressbewaeltigung-mit-yoga-entspannung-und-selbstfuersorge-im-beruf-und-alltag-duplicate-1-2/
LOCATION:Hotel Gutshaus Parin\, Wirtschaftshof 1\, Parin\, Mecklenburg Vorpommern\, 23948\, Germany
CATEGORIES:Seminarkalender
ATTACH;FMTTYPE=image/png:https://www.gutshaus-parin.de/wp-content/uploads/2024/04/felicitas_Logo_Farbe.png
ORGANIZER;CN="Paulina Purgal":MAILTO:paulina.purgal@felicitas-tut-gut.de
END:VEVENT
END:VCALENDAR