BEGIN:VCALENDAR
VERSION:2.0
PRODID:-//Hotel Gutshaus Parin - ECPv6.15.20//NONSGML v1.0//EN
CALSCALE:GREGORIAN
METHOD:PUBLISH
X-WR-CALNAME:Hotel Gutshaus Parin
X-ORIGINAL-URL:https://www.gutshaus-parin.de
X-WR-CALDESC:Veranstaltungen für Hotel Gutshaus Parin
REFRESH-INTERVAL;VALUE=DURATION:PT1H
X-Robots-Tag:noindex
X-PUBLISHED-TTL:PT1H
BEGIN:VTIMEZONE
TZID:Europe/Berlin
BEGIN:DAYLIGHT
TZOFFSETFROM:+0100
TZOFFSETTO:+0200
TZNAME:CEST
DTSTART:20230326T010000
END:DAYLIGHT
BEGIN:STANDARD
TZOFFSETFROM:+0200
TZOFFSETTO:+0100
TZNAME:CET
DTSTART:20231029T010000
END:STANDARD
BEGIN:DAYLIGHT
TZOFFSETFROM:+0100
TZOFFSETTO:+0200
TZNAME:CEST
DTSTART:20240331T010000
END:DAYLIGHT
BEGIN:STANDARD
TZOFFSETFROM:+0200
TZOFFSETTO:+0100
TZNAME:CET
DTSTART:20241027T010000
END:STANDARD
BEGIN:DAYLIGHT
TZOFFSETFROM:+0100
TZOFFSETTO:+0200
TZNAME:CEST
DTSTART:20250330T010000
END:DAYLIGHT
BEGIN:STANDARD
TZOFFSETFROM:+0200
TZOFFSETTO:+0100
TZNAME:CET
DTSTART:20251026T010000
END:STANDARD
END:VTIMEZONE
BEGIN:VEVENT
DTSTART;TZID=Europe/Berlin:20240524T000000
DTEND;TZID=Europe/Berlin:20240526T235959
DTSTAMP:20260425T193205
CREATED:20231023T075702Z
LAST-MODIFIED:20231023T080325Z
UID:25463-1716508800-1716767999@www.gutshaus-parin.de
SUMMARY:Das Erntemond Seminar- Zeit für den Wandel
DESCRIPTION:Im Trubel unsere geschäftigen Zeit sehnen sich Frauen mehr denn je nach Begegnungen\, in denen sie sich selbst und mit anderen Frauen nah sein und sich gegenseitig halten\, unterstützen und nähern können. Dieses Seminar richtet sich an Frauen\, die sich in der Mitte des Lebens befinden. Auf der Suche nach ihrer ureigenen Identität und dem Wunsch\, ihr Bewusstsein dafür zu schulen. In Entwicklungsräumen\, die einladen zum Öffnen\, Spüren und Fühlen.Was erwartet Sie im Erntemond-Seminar?– Morgenprogramm z.B. »Fünf Tibeter«– Autobiografisches Schreiben– Selbstreflexionsübungen– Einsatz von kreativen Methodenz.B. Rituale\, Tanz\, Malen\, Gesang\, Klang\, Berührung– Kleine Meditation & Massage– Einführung in die ayurvedische Ernährungund Lifestyle (ausgerichtet auf die Wechseljahre) \n\n\n\nMit Heindrun KuhneHeilpraktikerin
URL:https://www.gutshaus-parin.de/veranstaltungen/das-erntemond-seminar/
LOCATION:Hotel Gutshaus Parin\, Wirtschaftshof 1\, Parin\, Mecklenburg Vorpommern\, 23948\, Germany
CATEGORIES:Seminarkalender
ATTACH;FMTTYPE=image/jpeg:https://www.gutshaus-parin.de/wp-content/uploads/2023/10/Postkarte-Erntemond-fuer-Internetauftritt-Parin_page-0001.jpg
ORGANIZER;CN="Heindrun Kuhne":MAILTO:mail@hk-erntemond.de
END:VEVENT
END:VCALENDAR